BEGIN:VCALENDAR
VERSION:2.0
PRODID:-//Trinity Senior Services - ECPv6.15.12.2//NONSGML v1.0//EN
CALSCALE:GREGORIAN
METHOD:PUBLISH
X-ORIGINAL-URL:https://trinityseniorservices.org
X-WR-CALDESC:Events for Trinity Senior Services
REFRESH-INTERVAL;VALUE=DURATION:PT1H
X-Robots-Tag:noindex
X-PUBLISHED-TTL:PT1H
BEGIN:VTIMEZONE
TZID:America/Chicago
BEGIN:DAYLIGHT
TZOFFSETFROM:-0600
TZOFFSETTO:-0500
TZNAME:CDT
DTSTART:20250309T080000
END:DAYLIGHT
BEGIN:STANDARD
TZOFFSETFROM:-0500
TZOFFSETTO:-0600
TZNAME:CST
DTSTART:20251102T070000
END:STANDARD
BEGIN:DAYLIGHT
TZOFFSETFROM:-0600
TZOFFSETTO:-0500
TZNAME:CDT
DTSTART:20260308T080000
END:DAYLIGHT
BEGIN:STANDARD
TZOFFSETFROM:-0500
TZOFFSETTO:-0600
TZNAME:CST
DTSTART:20261101T070000
END:STANDARD
BEGIN:DAYLIGHT
TZOFFSETFROM:-0600
TZOFFSETTO:-0500
TZNAME:CDT
DTSTART:20270314T080000
END:DAYLIGHT
BEGIN:STANDARD
TZOFFSETFROM:-0500
TZOFFSETTO:-0600
TZNAME:CST
DTSTART:20271107T070000
END:STANDARD
END:VTIMEZONE
BEGIN:VEVENT
DTSTART;TZID=America/Chicago:20260421T140000
DTEND;TZID=America/Chicago:20260421T140000
DTSTAMP:20260422T104158
CREATED:20260318T213743Z
LAST-MODIFIED:20260406T165653Z
UID:10000581-1776780000-1776780000@trinityseniorservices.org
SUMMARY:Cheese Pairing & Tour
DESCRIPTION:Join us for a one-of-a-kind experience at the Milwaukee Cheese and Cocktail Bar\, where vibrant city energy meets the time-honored craft of cheesemaking. Delight your palate with an elevated cheese journey. Pair your selections with thoughtfully chosen wines. We’ll enjoy a behind-the-scenes to see how Hill Valley Dairy cheese is made. Visit the Artisan Cheese shop to take home your favorites! The cost is $25. Bus leaves from TW/MCH at 1:15/1:30 PM or you can meet us there for a 2pm start time.
URL:https://trinityseniorservices.org/event/cheese-pairing-tour/
LOCATION:Milwaukee Cheese and Cocktail Bar\, 138 W Bruce St\, Milwaukee\, WI\, 53204\, United States
CATEGORIES:Milwaukee Catholic Home,Trinity Woods
ATTACH;FMTTYPE=image/jpeg:https://trinityseniorservices.org/wp-content/uploads/2026/03/Cheese-Pairing-Tour-at-Milwaukee-Cheese-and-Cocktail-Bar.jpg
END:VEVENT
END:VCALENDAR